BEGIN:VCALENDAR
VERSION:2.0
PRODID:-//St. Louis Hills Neighborhood Association (SLHNA) - ECPv6.15.20//NONSGML v1.0//EN
CALSCALE:GREGORIAN
METHOD:PUBLISH
X-ORIGINAL-URL:https://stlhills.com
X-WR-CALDESC:Events for St. Louis Hills Neighborhood Association (SLHNA)
REFRESH-INTERVAL;VALUE=DURATION:PT1H
X-Robots-Tag:noindex
X-PUBLISHED-TTL:PT1H
BEGIN:VTIMEZONE
TZID:America/Chicago
BEGIN:DAYLIGHT
TZOFFSETFROM:-0600
TZOFFSETTO:-0500
TZNAME:CDT
DTSTART:20220313T080000
END:DAYLIGHT
BEGIN:STANDARD
TZOFFSETFROM:-0500
TZOFFSETTO:-0600
TZNAME:CST
DTSTART:20221106T070000
END:STANDARD
BEGIN:DAYLIGHT
TZOFFSETFROM:-0600
TZOFFSETTO:-0500
TZNAME:CDT
DTSTART:20230312T080000
END:DAYLIGHT
BEGIN:STANDARD
TZOFFSETFROM:-0500
TZOFFSETTO:-0600
TZNAME:CST
DTSTART:20231105T070000
END:STANDARD
BEGIN:DAYLIGHT
TZOFFSETFROM:-0600
TZOFFSETTO:-0500
TZNAME:CDT
DTSTART:20240310T080000
END:DAYLIGHT
BEGIN:STANDARD
TZOFFSETFROM:-0500
TZOFFSETTO:-0600
TZNAME:CST
DTSTART:20241103T070000
END:STANDARD
END:VTIMEZONE
BEGIN:VEVENT
DTSTART;TZID=America/Chicago:20230413T183000
DTEND;TZID=America/Chicago:20230413T200000
DTSTAMP:20260420T212916
CREATED:20230313T131534Z
LAST-MODIFIED:20230313T131841Z
UID:3530-1681410600-1681416000@stlhills.com
SUMMARY:Safety Committee Meeting
DESCRIPTION:Guest Speaker\nSteve Butz – MO State Representative and Holly Hills resident. \nSteve will share his experience and thoughts on safety\, crime and the Holly Hills special taxing district.
URL:https://stlhills.com/event/safety-committee-meeting-3/
LOCATION:Buder Library – Lower Level\, 4401 Hampton Ave\, St Louis\, 63109\, United States
CATEGORIES:Featured,Meetings
END:VEVENT
BEGIN:VEVENT
DTSTART;TZID=America/Chicago:20230427T190000
DTEND;TZID=America/Chicago:20230427T203000
DTSTAMP:20260420T212916
CREATED:20230131T015542Z
LAST-MODIFIED:20230427T023928Z
UID:3338-1682622000-1682627400@stlhills.com
SUMMARY:Cancelled – General Meeting
DESCRIPTION:Bishop DuBourg High School\n5850 Eichelberger Ave\nDoors Open at 6:30pm
URL:https://stlhills.com/event/general-meeting-6/
LOCATION:Bishop DuBourg High School\, 5850 Eichelberger St.\, St. Louis\, 63109\, United States
CATEGORIES:Featured,Meetings
ATTACH;FMTTYPE=image/png:https://stlhills.com/wp-content/uploads/2021/11/image0-e1650050580418.png
END:VEVENT
END:VCALENDAR