BEGIN:VCALENDAR
VERSION:2.0
PRODID:-//St. Louis Hills Neighborhood Association (SLHNA) - ECPv6.15.20//NONSGML v1.0//EN
CALSCALE:GREGORIAN
METHOD:PUBLISH
X-ORIGINAL-URL:https://stlhills.com
X-WR-CALDESC:Events for St. Louis Hills Neighborhood Association (SLHNA)
REFRESH-INTERVAL;VALUE=DURATION:PT1H
X-Robots-Tag:noindex
X-PUBLISHED-TTL:PT1H
BEGIN:VTIMEZONE
TZID:America/Chicago
BEGIN:DAYLIGHT
TZOFFSETFROM:-0600
TZOFFSETTO:-0500
TZNAME:CDT
DTSTART:20220313T080000
END:DAYLIGHT
BEGIN:STANDARD
TZOFFSETFROM:-0500
TZOFFSETTO:-0600
TZNAME:CST
DTSTART:20221106T070000
END:STANDARD
BEGIN:DAYLIGHT
TZOFFSETFROM:-0600
TZOFFSETTO:-0500
TZNAME:CDT
DTSTART:20230312T080000
END:DAYLIGHT
BEGIN:STANDARD
TZOFFSETFROM:-0500
TZOFFSETTO:-0600
TZNAME:CST
DTSTART:20231105T070000
END:STANDARD
BEGIN:DAYLIGHT
TZOFFSETFROM:-0600
TZOFFSETTO:-0500
TZNAME:CDT
DTSTART:20240310T080000
END:DAYLIGHT
BEGIN:STANDARD
TZOFFSETFROM:-0500
TZOFFSETTO:-0600
TZNAME:CST
DTSTART:20241103T070000
END:STANDARD
END:VTIMEZONE
BEGIN:VEVENT
DTSTART;TZID=America/Chicago:20230209T183000
DTEND;TZID=America/Chicago:20230209T203000
DTSTAMP:20260421T003906
CREATED:20230209T212252Z
LAST-MODIFIED:20230209T212529Z
UID:3399-1675967400-1675974600@stlhills.com
SUMMARY:Security Initiative Open House
DESCRIPTION:Tom Scheifler\, Safety Committee Chairperson\, will be on hand to answer your questions about the safety initiative. Please stop by for a chat and a complimentary wine tasting.
URL:https://stlhills.com/event/security-initiative-open-house/
LOCATION:Southside Wine & Spirits\, 4911 Hampton Ave\, St. Louis\, MO\, 63109\, United States
ATTACH;FMTTYPE=image/png:https://stlhills.com/wp-content/uploads/2018/09/safetycommitteebanner.png
ORGANIZER;CN="SLHNA Safety Committee":MAILTO:safety_committee@stlhills.com
END:VEVENT
BEGIN:VEVENT
DTSTART;TZID=America/Chicago:20230216T190000
DTEND;TZID=America/Chicago:20230216T203000
DTSTAMP:20260421T003906
CREATED:20230112T210754Z
LAST-MODIFIED:20230216T215843Z
UID:3234-1676574000-1676579400@stlhills.com
SUMMARY:General Meeting
DESCRIPTION:Aldermanic candidates for our ward have been invited to speak for a few minutes. The proposed Special Business District (SBD) will be the primary topic for the remainder of the meeting. This will be the first in a series of meetings to discuss the SBD and gather input from residents. Current information\, including a lengthy Q&A document\, is available at https://stlhills.com/st-louis-hills-special-business-district/. \nBishop DuBourg High School\n5850 Eichelberger Ave\nDoors Open at 6:30pm \nWatch & listen by Zoom (sorry\, you won’t be able to ask questions):\nhttps://us06web.zoom.us/j/89214043841?pwd=VCtwOWJWeFNGSzRIYktHSmh0RG9wZz09 \nMeeting ID: 892 1404 3841\nPasscode: 233553 \nOne tap mobile\n+13052241968\,\,89214043841#\,\,\,\,*233553# US \nFind your local number: https://us06web.zoom.us/u/kez447uqKt
URL:https://stlhills.com/event/general-meeting-3/
LOCATION:Bishop DuBourg High School\, 5850 Eichelberger St.\, St. Louis\, 63109\, United States
CATEGORIES:Featured,Meetings
ATTACH;FMTTYPE=image/png:https://stlhills.com/wp-content/uploads/2021/11/image0-e1650050580418.png
END:VEVENT
END:VCALENDAR