BEGIN:VCALENDAR
VERSION:2.0
PRODID:-//St. Louis Hills Neighborhood Association (SLHNA) - ECPv6.15.20//NONSGML v1.0//EN
CALSCALE:GREGORIAN
METHOD:PUBLISH
X-WR-CALNAME:St. Louis Hills Neighborhood Association (SLHNA)
X-ORIGINAL-URL:https://stlhills.com
X-WR-CALDESC:Events for St. Louis Hills Neighborhood Association (SLHNA)
REFRESH-INTERVAL;VALUE=DURATION:PT1H
X-Robots-Tag:noindex
X-PUBLISHED-TTL:PT1H
BEGIN:VTIMEZONE
TZID:America/Chicago
BEGIN:DAYLIGHT
TZOFFSETFROM:-0600
TZOFFSETTO:-0500
TZNAME:CDT
DTSTART:20200308T080000
END:DAYLIGHT
BEGIN:STANDARD
TZOFFSETFROM:-0500
TZOFFSETTO:-0600
TZNAME:CST
DTSTART:20201101T070000
END:STANDARD
BEGIN:DAYLIGHT
TZOFFSETFROM:-0600
TZOFFSETTO:-0500
TZNAME:CDT
DTSTART:20210314T080000
END:DAYLIGHT
BEGIN:STANDARD
TZOFFSETFROM:-0500
TZOFFSETTO:-0600
TZNAME:CST
DTSTART:20211107T070000
END:STANDARD
BEGIN:DAYLIGHT
TZOFFSETFROM:-0600
TZOFFSETTO:-0500
TZNAME:CDT
DTSTART:20220313T080000
END:DAYLIGHT
BEGIN:STANDARD
TZOFFSETFROM:-0500
TZOFFSETTO:-0600
TZNAME:CST
DTSTART:20221106T070000
END:STANDARD
BEGIN:DAYLIGHT
TZOFFSETFROM:-0600
TZOFFSETTO:-0500
TZNAME:CDT
DTSTART:20230312T080000
END:DAYLIGHT
BEGIN:STANDARD
TZOFFSETFROM:-0500
TZOFFSETTO:-0600
TZNAME:CST
DTSTART:20231105T070000
END:STANDARD
END:VTIMEZONE
BEGIN:VEVENT
DTSTART;TZID=America/Chicago:20220416T110000
DTEND;TZID=America/Chicago:20220416T110000
DTSTAMP:20260419T145424
CREATED:20220310T230506Z
LAST-MODIFIED:20220310T230530Z
UID:3042-1650106800-1650106800@stlhills.com
SUMMARY:2022 Easter Egg Hunt
DESCRIPTION:Francis Park\, between Rockwell and the playground\n(Registration is not required). Bring your own basket! \nChildren up to 3rd grade can gather eggs filled with candy and prize coupons\nChildren in 4th – 8th grade will search for gold eggs with a $25 prize in each \nThe Easter Bunny’s helpers will be available for photo opportunities along  with live bunnies to hold and cuddle! \nFor more information contact Angie LeGrand at  EasterEggHunt@stlhills.com \nIf you enjoy this event\, consider joining the neighborhood association. Dues support this and other great events! Join at stlhills.com. \n 
URL:https://stlhills.com/event/2022-easter-egg-hunt/
LOCATION:Francis Park\, Childress & Nottingham
CATEGORIES:Community,Featured
ATTACH;FMTTYPE=image/png:https://stlhills.com/wp-content/uploads/2022/03/Easter-Egg-Hunt.png
END:VEVENT
BEGIN:VEVENT
DTSTART;TZID=America/Chicago:20211208T190000
DTEND;TZID=America/Chicago:20211208T203000
DTSTAMP:20260419T145424
CREATED:20211116T161303Z
LAST-MODIFIED:20211204T161515Z
UID:2930-1638990000-1638995400@stlhills.com
SUMMARY:General Meeting
DESCRIPTION:SLHNA General Meeting\, December 8th\, Wednesday.\nBishop DuBourg High School\, 5850 Eichelberger Ave\nDoors open at 6:30 pm\nMeeting at 7:00 p.m.\nMask required.\nGuests include: Special Assistant to the Mayor\, Kevin Bailey\, Alderman Oldenburg\, State Representative Baringer\, and Captain Christi Marks\, SLMPD. \n(If something changes meeting will convert to Zoom).
URL:https://stlhills.com/event/2930/
LOCATION:Bishop DuBourg High School\, 5850 Eichelberger St.\, St. Louis\, 63109\, United States
CATEGORIES:Featured,Meetings
ATTACH;FMTTYPE=image/png:https://stlhills.com/wp-content/uploads/2021/11/image0-e1650050580418.png
END:VEVENT
BEGIN:VEVENT
DTSTART;TZID=America/Chicago:20211204T190000
DTEND;TZID=America/Chicago:20211204T230000
DTSTAMP:20260419T145424
CREATED:20211116T160300Z
LAST-MODIFIED:20211117T202752Z
UID:2921-1638644400-1638658800@stlhills.com
SUMMARY:Holiday Party
DESCRIPTION:Purchase tickets online: https://www.emailmeform.com/builder/form/6f3YQ9886dwcbO2IUfL\n 
URL:https://stlhills.com/event/holiday-party/
LOCATION:Christy Banquet Center\, 5856 Christy Blvd\, St. Louis\, MO\, 63116\, United States
CATEGORIES:Community,Featured
ATTACH;FMTTYPE=image/jpeg:https://stlhills.com/wp-content/uploads/2021/11/Holiday-party-scaled.jpg
END:VEVENT
BEGIN:VEVENT
DTSTART;TZID=America/Chicago:20211128T120000
DTEND;TZID=America/Chicago:20211128T130000
DTSTAMP:20260419T145424
CREATED:20211118T165223Z
LAST-MODIFIED:20211118T165223Z
UID:2939-1638100800-1638104400@stlhills.com
SUMMARY:Santa Parade (weather permitting)
DESCRIPTION:Santa Claus is coming to St. Louis Hills! Check out the parade route (Starting at Rockwell in Francis Park this year)
URL:https://stlhills.com/event/santa-parade-weather-permitting/
CATEGORIES:Community,Featured
END:VEVENT
BEGIN:VEVENT
DTSTART;VALUE=DATE:20211128
DTEND;VALUE=DATE:20220101
DTSTAMP:20260419T145424
CREATED:20211208T205742Z
LAST-MODIFIED:20211208T210233Z
UID:2969-1638057600-1640995199@stlhills.com
SUMMARY:Guide to Neighborhood Festivities
DESCRIPTION:The holidays are in full swing in St. Louis Hills and there is more to take in than ever!\n \n\n\nBeat the traffic and park at one of the many local businesses ready to serve you this holiday season before you stroll our festive neighborhood including Snowflake Street\, Llama Lane\, Angel Ave.\, Candy Cane Lane\, and many\, many other streets that have decked their halls.  There is also parking at Francis Park.  \n \n\nTo see the neighborhood guide\, click here to watch the video\n\n\n \n\n\n \n\n 
URL:https://stlhills.com/event/guide-to-neighborhood-festivities/
CATEGORIES:Community,Featured
ATTACH;FMTTYPE=image/png:https://stlhills.com/wp-content/uploads/2021/12/Screenshot-2021-12-08-at-14-56-33-2-St-Louis-Hills-Neighborhood-Association-Facebook.png
END:VEVENT
END:VCALENDAR