BEGIN:VCALENDAR
VERSION:2.0
PRODID:-//St. Louis Hills Neighborhood Association (SLHNA) - ECPv6.15.20//NONSGML v1.0//EN
CALSCALE:GREGORIAN
METHOD:PUBLISH
X-WR-CALNAME:St. Louis Hills Neighborhood Association (SLHNA)
X-ORIGINAL-URL:https://stlhills.com
X-WR-CALDESC:Events for St. Louis Hills Neighborhood Association (SLHNA)
REFRESH-INTERVAL;VALUE=DURATION:PT1H
X-Robots-Tag:noindex
X-PUBLISHED-TTL:PT1H
BEGIN:VTIMEZONE
TZID:America/Chicago
BEGIN:DAYLIGHT
TZOFFSETFROM:-0600
TZOFFSETTO:-0500
TZNAME:CDT
DTSTART:20230312T080000
END:DAYLIGHT
BEGIN:STANDARD
TZOFFSETFROM:-0500
TZOFFSETTO:-0600
TZNAME:CST
DTSTART:20231105T070000
END:STANDARD
BEGIN:DAYLIGHT
TZOFFSETFROM:-0600
TZOFFSETTO:-0500
TZNAME:CDT
DTSTART:20240310T080000
END:DAYLIGHT
BEGIN:STANDARD
TZOFFSETFROM:-0500
TZOFFSETTO:-0600
TZNAME:CST
DTSTART:20241103T070000
END:STANDARD
BEGIN:DAYLIGHT
TZOFFSETFROM:-0600
TZOFFSETTO:-0500
TZNAME:CDT
DTSTART:20250309T080000
END:DAYLIGHT
BEGIN:STANDARD
TZOFFSETFROM:-0500
TZOFFSETTO:-0600
TZNAME:CST
DTSTART:20251102T070000
END:STANDARD
BEGIN:DAYLIGHT
TZOFFSETFROM:-0600
TZOFFSETTO:-0500
TZNAME:CDT
DTSTART:20260308T080000
END:DAYLIGHT
BEGIN:STANDARD
TZOFFSETFROM:-0500
TZOFFSETTO:-0600
TZNAME:CST
DTSTART:20261101T070000
END:STANDARD
BEGIN:DAYLIGHT
TZOFFSETFROM:-0600
TZOFFSETTO:-0500
TZNAME:CDT
DTSTART:20270314T080000
END:DAYLIGHT
BEGIN:STANDARD
TZOFFSETFROM:-0500
TZOFFSETTO:-0600
TZNAME:CST
DTSTART:20271107T070000
END:STANDARD
END:VTIMEZONE
BEGIN:VEVENT
DTSTART;TZID=America/Chicago:20241207T130000
DTEND;TZID=America/Chicago:20241207T200000
DTSTAMP:20260419T233903
CREATED:20241010T201001Z
LAST-MODIFIED:20241010T201001Z
UID:4365-1733576400-1733601600@stlhills.com
SUMMARY:Lights at the Lily Pad\, An Enchanted Market
DESCRIPTION:Introducing “Lights at the Lily Pad\, An Enchanted Market” brought to you by the team behind Grub and Groove! This event will be a holiday themed market complete with carolers and holiday music\, hot cocoa and beverage stations\, fire pits\, holiday movie screening\, food trucks and more around the lily pond in Francis Park.  All profits for the event will go to our non-profit\, South City Investment Corp\, which supports the park and surrounding areas. Proceeds from this event are earmarked for local charities supporting families in need during the holidays in 2024. 
URL:https://stlhills.com/event/lights-at-the-lily-pad-an-enchanted-market/
LOCATION:Francis Park\, Childress & Nottingham
ORGANIZER;CN="South City Investment Corp.":MAILTO:richard.fisher1250@gmail.com
END:VEVENT
BEGIN:VEVENT
DTSTART;TZID=America/Chicago:20241207T190000
DTEND;TZID=America/Chicago:20241207T220000
DTSTAMP:20260419T233903
CREATED:20241010T202525Z
LAST-MODIFIED:20241012T201249Z
UID:4372-1733598000-1733608800@stlhills.com
SUMMARY:SLHNA 2024 Holiday Party
DESCRIPTION:Join us at Pietro’s for dinner and dancing at this fun neighborhood event!  Buy your tickets here. \n 
URL:https://stlhills.com/event/slhna-2024-holiday-party/
LOCATION:Pietros\, 3801 Watson Rd\, St. Louis\, MO\, 63109
END:VEVENT
BEGIN:VEVENT
DTSTART;TZID=America/Chicago:20251130T190000
DTEND;TZID=America/Chicago:20251130T210000
DTSTAMP:20260419T233903
CREATED:20251113T185033Z
LAST-MODIFIED:20251113T185033Z
UID:5032-1764529200-1764536400@stlhills.com
SUMMARY:2025 Holiday Tree Lighting
DESCRIPTION:Join us at the entrance of Francis Park\, at Nottingham and Childress\, for this year’s tree lighting. \nNovember 30\, 2025 at 7 pm \n\n\n\nFree Carriage Rides \nAppearances by \nSanta & Mrs. Claus\, \nFredbird \nand Louie \nHot Chocolate and Cookies to be Provided at Tree Lighting \nEvent will be held rain or shine! \n 
URL:https://stlhills.com/event/2025-holiday-tree-lighting/
LOCATION:Francis Park\, Childress & Nottingham
ATTACH;FMTTYPE=image/jpeg:https://stlhills.com/wp-content/uploads/2025/11/xmass-tree.jpg
END:VEVENT
BEGIN:VEVENT
DTSTART;TZID=America/Chicago:20251205T190000
DTEND;TZID=America/Chicago:20251205T230000
DTSTAMP:20260419T233903
CREATED:20251112T193953Z
LAST-MODIFIED:20251114T181503Z
UID:4928-1764961200-1764975600@stlhills.com
SUMMARY:SLHNA 2025 Holiday Party
DESCRIPTION:Join us at Pietro’s for dinner and dancing at this fun neighborhood event!  Buy your tickets below. \nFriday\, 12/5/2025 \n\n\n7-11pm\n3 hour open bar (7-10pm)\nBuffet dinner\nMusic & cheer (no DJ this year)
URL:https://stlhills.com/event/slhna-2025-holiday-party/
LOCATION:Pietros\, 3801 Watson Rd\, St. Louis\, MO\, 63109
ATTACH;FMTTYPE=image/png:https://stlhills.com/wp-content/uploads/2024/10/unnamed.png
END:VEVENT
BEGIN:VEVENT
DTSTART;TZID=America/Chicago:20260128T180000
DTEND;TZID=America/Chicago:20260128T190000
DTSTAMP:20260419T233903
CREATED:20260127T230256Z
LAST-MODIFIED:20260127T230328Z
UID:5294-1769623200-1769626800@stlhills.com
SUMMARY:Board Meeting - January 2026
DESCRIPTION:Our first meeting of the New Year is almost here:\n\nDate:  January 28\nTime:  6:00 p.m.\nPlace:  Buder Library\nSee the agenda here.
URL:https://stlhills.com/event/board-meeting-january-2026/
LOCATION:Buder Library – Lower Level\, 4401 Hampton Ave\, St Louis\, 63109\, United States
ATTACH;FMTTYPE=image/png:https://stlhills.com/wp-content/uploads/2026/01/Screenshot-2026-01-27-at-5.01.54-PM.png
END:VEVENT
BEGIN:VEVENT
DTSTART;TZID=America/Chicago:20260225T180000
DTEND;TZID=America/Chicago:20260225T190000
DTSTAMP:20260419T233903
CREATED:20260127T230629Z
LAST-MODIFIED:20260127T230905Z
UID:5300-1772042400-1772046000@stlhills.com
SUMMARY:Board Meeting - February 2026
DESCRIPTION:Date:  February 25\n\nTime:  6:00 p.m.\nPlace:  Buder Library
URL:https://stlhills.com/event/board-meeting-february-2026/
LOCATION:Buder Library – Lower Level\, 4401 Hampton Ave\, St Louis\, 63109\, United States
ATTACH;FMTTYPE=image/png:https://stlhills.com/wp-content/uploads/2026/01/Screenshot-2026-01-27-at-5.01.54-PM.png
END:VEVENT
BEGIN:VEVENT
DTSTART;TZID=America/Chicago:20260319T190000
DTEND;TZID=America/Chicago:20260319T200000
DTSTAMP:20260419T233903
CREATED:20260216T181543Z
LAST-MODIFIED:20260216T181747Z
UID:5333-1773946800-1773950400@stlhills.com
SUMMARY:General Meeting - March 2026
DESCRIPTION:Date: March 19 \n\n\n\nTime:  7:00 p.m. \n\n\n\nPlace:  DuBourg High School
URL:https://stlhills.com/event/general-meeting-march-2026/
ATTACH;FMTTYPE=image/jpeg:https://stlhills.com/wp-content/uploads/2026/02/bishop_dubourg_high_school_cover-2-scaled.jpg
END:VEVENT
BEGIN:VEVENT
DTSTART;TZID=America/Chicago:20260422T180000
DTEND;TZID=America/Chicago:20260422T190000
DTSTAMP:20260419T233903
CREATED:20260216T180738Z
LAST-MODIFIED:20260216T180845Z
UID:5320-1776880800-1776884400@stlhills.com
SUMMARY:Board Meeting - April 2026
DESCRIPTION:Date:  April 22 \n\n\n\nTime:  6:00 p.m. \n\n\n\nPlace:  Buder Library
URL:https://stlhills.com/event/board-meeting-april-2026/
ATTACH;FMTTYPE=image/png:https://stlhills.com/wp-content/uploads/2026/01/Screenshot-2026-01-27-at-5.01.54-PM.png
END:VEVENT
BEGIN:VEVENT
DTSTART;TZID=America/Chicago:20260527T180000
DTEND;TZID=America/Chicago:20260527T190000
DTSTAMP:20260419T233903
CREATED:20260216T181011Z
LAST-MODIFIED:20260216T181012Z
UID:5323-1779904800-1779908400@stlhills.com
SUMMARY:Board Meeting - May 2026
DESCRIPTION:Date:  May 27 \n\n\n\nTime:  6:00 p.m. \n\n\n\nPlace:  Buder Library
URL:https://stlhills.com/event/board-meeting-may-2026/
ATTACH;FMTTYPE=image/png:https://stlhills.com/wp-content/uploads/2026/01/Screenshot-2026-01-27-at-5.01.54-PM.png
END:VEVENT
BEGIN:VEVENT
DTSTART;TZID=America/Chicago:20260618T190000
DTEND;TZID=America/Chicago:20260618T200000
DTSTAMP:20260419T233903
CREATED:20260216T181626Z
LAST-MODIFIED:20260216T181759Z
UID:5336-1781809200-1781812800@stlhills.com
SUMMARY:General Meeting - June 2026
DESCRIPTION:Date: June 18 \n\n\n\nTime:  7:00 p.m. \n\n\n\nPlace:  DuBourg High School
URL:https://stlhills.com/event/general-meeting-june-2026/
ATTACH;FMTTYPE=image/jpeg:https://stlhills.com/wp-content/uploads/2026/02/bishop_dubourg_high_school_cover-2-scaled.jpg
END:VEVENT
BEGIN:VEVENT
DTSTART;TZID=America/Chicago:20260722T180000
DTEND;TZID=America/Chicago:20260722T190000
DTSTAMP:20260419T233903
CREATED:20260216T181101Z
LAST-MODIFIED:20260216T181109Z
UID:5325-1784743200-1784746800@stlhills.com
SUMMARY:Board Meeting - July 2026
DESCRIPTION:Date:  July 22 \n\n\n\nTime:  6:00 p.m. \n\n\n\nPlace:  Buder Library
URL:https://stlhills.com/event/board-meeting-july-2026/
ATTACH;FMTTYPE=image/png:https://stlhills.com/wp-content/uploads/2026/01/Screenshot-2026-01-27-at-5.01.54-PM.png
END:VEVENT
BEGIN:VEVENT
DTSTART;TZID=America/Chicago:20260826T180000
DTEND;TZID=America/Chicago:20260826T190000
DTSTAMP:20260419T233903
CREATED:20260216T181142Z
LAST-MODIFIED:20260216T181143Z
UID:5327-1787767200-1787770800@stlhills.com
SUMMARY:Board Meeting - August 2026
DESCRIPTION:Date:  August 26 \n\n\n\nTime:  6:00 p.m. \n\n\n\nPlace:  Buder Library
URL:https://stlhills.com/event/board-meeting-august-2026/
ATTACH;FMTTYPE=image/png:https://stlhills.com/wp-content/uploads/2026/01/Screenshot-2026-01-27-at-5.01.54-PM.png
END:VEVENT
BEGIN:VEVENT
DTSTART;TZID=America/Chicago:20260917T190000
DTEND;TZID=America/Chicago:20260917T200000
DTSTAMP:20260419T233903
CREATED:20260216T181729Z
LAST-MODIFIED:20260216T181730Z
UID:5338-1789671600-1789675200@stlhills.com
SUMMARY:General Meeting - September 2026
DESCRIPTION:Date: June 18 \n\n\n\nTime:  7:00 p.m. \n\n\n\nPlace:  DuBourg High School
URL:https://stlhills.com/event/general-meeting-september-2026/
ATTACH;FMTTYPE=image/jpeg:https://stlhills.com/wp-content/uploads/2026/02/bishop_dubourg_high_school_cover-2-scaled.jpg
END:VEVENT
BEGIN:VEVENT
DTSTART;TZID=America/Chicago:20261028T180000
DTEND;TZID=America/Chicago:20261028T190000
DTSTAMP:20260419T233903
CREATED:20260216T181212Z
LAST-MODIFIED:20260216T181213Z
UID:5329-1793210400-1793214000@stlhills.com
SUMMARY:Board Meeting - October 2026
DESCRIPTION:Date:  October 28 \n\n\n\nTime:  6:00 p.m. \n\n\n\nPlace:  Buder Library
URL:https://stlhills.com/event/board-meeting-october-2026/
ATTACH;FMTTYPE=image/png:https://stlhills.com/wp-content/uploads/2026/01/Screenshot-2026-01-27-at-5.01.54-PM.png
END:VEVENT
BEGIN:VEVENT
DTSTART;TZID=America/Chicago:20261118T180000
DTEND;TZID=America/Chicago:20261118T190000
DTSTAMP:20260419T233903
CREATED:20260216T181252Z
LAST-MODIFIED:20260216T181253Z
UID:5331-1795024800-1795028400@stlhills.com
SUMMARY:Board Meeting - November 18
DESCRIPTION:Date: November 18 \n\n\n\nTime:  6:00 p.m. \n\n\n\nPlace:  Buder Library
URL:https://stlhills.com/event/board-meeting-november-18/
ATTACH;FMTTYPE=image/png:https://stlhills.com/wp-content/uploads/2026/01/Screenshot-2026-01-27-at-5.01.54-PM.png
END:VEVENT
END:VCALENDAR