BEGIN:VCALENDAR
VERSION:2.0
PRODID:-//St. Louis Hills Neighborhood Association (SLHNA) - ECPv6.15.20//NONSGML v1.0//EN
CALSCALE:GREGORIAN
METHOD:PUBLISH
X-ORIGINAL-URL:https://stlhills.com
X-WR-CALDESC:Events for St. Louis Hills Neighborhood Association (SLHNA)
REFRESH-INTERVAL;VALUE=DURATION:PT1H
X-Robots-Tag:noindex
X-PUBLISHED-TTL:PT1H
BEGIN:VTIMEZONE
TZID:America/Chicago
BEGIN:DAYLIGHT
TZOFFSETFROM:-0600
TZOFFSETTO:-0500
TZNAME:CDT
DTSTART:20230312T080000
END:DAYLIGHT
BEGIN:STANDARD
TZOFFSETFROM:-0500
TZOFFSETTO:-0600
TZNAME:CST
DTSTART:20231105T070000
END:STANDARD
BEGIN:DAYLIGHT
TZOFFSETFROM:-0600
TZOFFSETTO:-0500
TZNAME:CDT
DTSTART:20240310T080000
END:DAYLIGHT
BEGIN:STANDARD
TZOFFSETFROM:-0500
TZOFFSETTO:-0600
TZNAME:CST
DTSTART:20241103T070000
END:STANDARD
BEGIN:DAYLIGHT
TZOFFSETFROM:-0600
TZOFFSETTO:-0500
TZNAME:CDT
DTSTART:20250309T080000
END:DAYLIGHT
BEGIN:STANDARD
TZOFFSETFROM:-0500
TZOFFSETTO:-0600
TZNAME:CST
DTSTART:20251102T070000
END:STANDARD
END:VTIMEZONE
BEGIN:VEVENT
DTSTART;TZID=America/Chicago:20240522T183000
DTEND;TZID=America/Chicago:20240522T203000
DTSTAMP:20260420T023314
CREATED:20230112T211025Z
LAST-MODIFIED:20240503T213239Z
UID:3240-1716402600-1716409800@stlhills.com
SUMMARY:SLHNA Board Meeting 5/22/24
DESCRIPTION:Buder Library \nMay 22 \nJuly 24 \nAugust 28 \nOctober 23 \nNovember 20
URL:https://stlhills.com/event/general-meeting-4/
LOCATION:Buder Library – Lower Level\, 4401 Hampton Ave\, St Louis\, 63109\, United States
CATEGORIES:Featured,Meetings
ATTACH;FMTTYPE=image/png:https://stlhills.com/wp-content/uploads/2021/11/image0-e1650050580418.png
END:VEVENT
END:VCALENDAR