BEGIN:VCALENDAR
VERSION:2.0
PRODID:-//St. Louis Hills Neighborhood Association (SLHNA) - ECPv6.15.20//NONSGML v1.0//EN
CALSCALE:GREGORIAN
METHOD:PUBLISH
X-ORIGINAL-URL:https://stlhills.com
X-WR-CALDESC:Events for St. Louis Hills Neighborhood Association (SLHNA)
REFRESH-INTERVAL;VALUE=DURATION:PT1H
X-Robots-Tag:noindex
X-PUBLISHED-TTL:PT1H
BEGIN:VTIMEZONE
TZID:America/Chicago
BEGIN:DAYLIGHT
TZOFFSETFROM:-0600
TZOFFSETTO:-0500
TZNAME:CDT
DTSTART:20220313T080000
END:DAYLIGHT
BEGIN:STANDARD
TZOFFSETFROM:-0500
TZOFFSETTO:-0600
TZNAME:CST
DTSTART:20221106T070000
END:STANDARD
BEGIN:DAYLIGHT
TZOFFSETFROM:-0600
TZOFFSETTO:-0500
TZNAME:CDT
DTSTART:20230312T080000
END:DAYLIGHT
BEGIN:STANDARD
TZOFFSETFROM:-0500
TZOFFSETTO:-0600
TZNAME:CST
DTSTART:20231105T070000
END:STANDARD
BEGIN:DAYLIGHT
TZOFFSETFROM:-0600
TZOFFSETTO:-0500
TZNAME:CDT
DTSTART:20240310T080000
END:DAYLIGHT
BEGIN:STANDARD
TZOFFSETFROM:-0500
TZOFFSETTO:-0600
TZNAME:CST
DTSTART:20241103T070000
END:STANDARD
END:VTIMEZONE
BEGIN:VEVENT
DTSTART;TZID=America/Chicago:20230301T183000
DTEND;TZID=America/Chicago:20230301T203000
DTSTAMP:20260421T003849
CREATED:20230221T171400Z
LAST-MODIFIED:20230301T174630Z
UID:3436-1677695400-1677702600@stlhills.com
SUMMARY:Safety Committee Meeting
DESCRIPTION:Guest Speaker\nSteve Butz – MO State Representative and Holly Hills Resident\nSteve will share his experience and thoughts regarding crime/safety and the Holly Hills SBD. \nDue to late-breaking legislative obligations\, Steve Butz will not be able to attend the meeting. \nOur guest speaker will be Lauren Holland (www.flocksafety.com).\nAnd we’ll also discuss neighborhood safety topics.
URL:https://stlhills.com/event/safety-committee-meeting/
LOCATION:Bishop DuBourg High School\, 5850 Eichelberger St.\, St. Louis\, 63109\, United States
CATEGORIES:Featured,Meetings
END:VEVENT
END:VCALENDAR